BEGIN:VCALENDAR
VERSION:2.0
PRODID:-//Unitre San Mauro//NONSGML kigkonsult.se iCalcreator 2.30.10//
CALSCALE:GREGORIAN
METHOD:PUBLISH
UID:3fbd5b64-e544-49c7-aece-fe76c9948c3b
X-WR-CALNAME:iCagenda
X-WR-CALDESC:Event Management Extension for Joomla!
X-WR-RELCALID:3E26604A-50F4-4449-8B3E-E4F4932D05B5
X-WR-TIMEZONE:UTC
BEGIN:VTIMEZONE
TZID:UTC
END:VTIMEZONE
BEGIN:VEVENT
UID:d8c35ff6-c27a-4611-b04d-40b5c759f46e
DTSTAMP:20260419T163015Z
CATEGORIES:Lingue straniere
CLASS:PUBLIC
DESCRIPTION;ALTREP="CID:<FFFF__=0ABBE548DFE235B58f9e8a93d@coffeebean.com>":
 Orario lezione: 14.45 - 15.50
DTSTART:20260417T093000Z
DTEND:20260417T093000Z
GEO:00;0
LOCATION:
ORGANIZER:
SEQUENCE:1
SUMMARY:Inglese 1° livello (corso a numero chiuso)
TRANSP:OPAQUE
URL:https://unitresanmauro.it/index.php/component/icagenda/11-inglese-1-liv
 ello/2026-04-17-09-30
END:VEVENT
END:VCALENDAR
