BEGIN:VCALENDAR
VERSION:2.0
PRODID:-//Unitre San Mauro//NONSGML kigkonsult.se iCalcreator 2.30.10//
CALSCALE:GREGORIAN
METHOD:PUBLISH
UID:da34dfdc-d4f3-49d7-8fa8-8b866d82c29f
X-WR-CALNAME:iCagenda
X-WR-CALDESC:Event Management Extension for Joomla!
X-WR-RELCALID:3E26604A-50F4-4449-8B3E-E4F4932D05B5
X-WR-TIMEZONE:UTC
BEGIN:VTIMEZONE
TZID:UTC
END:VTIMEZONE
BEGIN:VEVENT
UID:75e7dafc-8839-4775-b25e-6033d35d9bbd
DTSTAMP:20260422T143721Z
CATEGORIES:Attività e movimento
CLASS:PUBLIC
DESCRIPTION:
DTSTART:20260421T153000Z
DTEND:20260421T153000Z
GEO:00;0
LOCATION:
ORGANIZER:
SEQUENCE:1
SUMMARY:Brain longevity (r) Yoga e salute  ( corso a numero chiuso) - c/o P
 iscina Gramsci\, via del porto 13\, San Mauro - Palestra Grande
TRANSP:OPAQUE
URL:https://unitresanmauro.it/index.php/component/icagenda/142-brain-longev
 ity-r-yoga-e-salute-corso-a-numero-chiuso-palestra-c-o-piscina-gramsci-v-d
 el-porto-13/2026-04-21-15-30
END:VEVENT
END:VCALENDAR
