BEGIN:VCALENDAR
VERSION:2.0
PRODID:-//Unitre San Mauro//NONSGML kigkonsult.se iCalcreator 2.30.10//
CALSCALE:GREGORIAN
METHOD:PUBLISH
UID:7e80b34c-cdef-4b3c-9c7d-cf189f23d69b
X-WR-CALNAME:iCagenda
X-WR-CALDESC:Event Management Extension for Joomla!
X-WR-RELCALID:3E26604A-50F4-4449-8B3E-E4F4932D05B5
X-WR-TIMEZONE:UTC
BEGIN:VTIMEZONE
TZID:UTC
END:VTIMEZONE
BEGIN:VEVENT
UID:5594e0d1-a576-44d0-90f3-f51678cd73cd
DTSTAMP:20260419T163014Z
CATEGORIES:Attività e movimento
CLASS:PUBLIC
DESCRIPTION:
DTSTART:20260417T153000Z
DTEND:20260417T153000Z
GEO:00;0
LOCATION:
ORGANIZER:
SEQUENCE:1
SUMMARY:Ginnastica del Benessere  ( corso a numero chiuso) - c/o Piscina Gr
 amsci\, via del porto 13\, San Mauro - Palestra Grande
TRANSP:OPAQUE
URL:https://unitresanmauro.it/index.php/component/icagenda/143-ginnastica-d
 el-benessere-corso-a-numero-chiuso-palestra-c-o-piscina-gramsci-v-del-port
 o-13/2026-04-17-15-30
END:VEVENT
END:VCALENDAR
