BEGIN:VCALENDAR
VERSION:2.0
PRODID:-//Unitre San Mauro//NONSGML kigkonsult.se iCalcreator 2.30.10//
CALSCALE:GREGORIAN
METHOD:PUBLISH
UID:2f124f02-2cf5-4e5e-871f-d52fbc09fdca
X-WR-CALNAME:iCagenda
X-WR-CALDESC:Event Management Extension for Joomla!
X-WR-RELCALID:3E26604A-50F4-4449-8B3E-E4F4932D05B5
X-WR-TIMEZONE:UTC
BEGIN:VTIMEZONE
TZID:UTC
END:VTIMEZONE
BEGIN:VEVENT
UID:9c50ceaf-67f3-4afd-91ca-d433e28e754b
DTSTAMP:20260419T163014Z
CATEGORIES:Laboratori
CLASS:PUBLIC
DESCRIPTION:
DTSTART:20260417T160000Z
DTEND:20260417T160000Z
GEO:00;0
LOCATION:
ORGANIZER:
SEQUENCE:1
SUMMARY:ritratto ad olio con la tecnica delle velature (corso a numero chiu
 so)
TRANSP:OPAQUE
URL:https://unitresanmauro.it/index.php/component/icagenda/210-ritratto-ad-
 olio-con-la-tecnica-delle-velature-corso-a-numero-chiuso/2026-04-17-16-00
END:VEVENT
END:VCALENDAR
