BEGIN:VCALENDAR
VERSION:2.0
PRODID:-//Unitre San Mauro//NONSGML kigkonsult.se iCalcreator 2.30.10//
CALSCALE:GREGORIAN
METHOD:PUBLISH
UID:e1fb72cb-917a-4e5c-866a-9de4b17c004d
X-WR-CALNAME:iCagenda
X-WR-CALDESC:Event Management Extension for Joomla!
X-WR-RELCALID:3E26604A-50F4-4449-8B3E-E4F4932D05B5
X-WR-TIMEZONE:UTC
BEGIN:VTIMEZONE
TZID:UTC
END:VTIMEZONE
BEGIN:VEVENT
UID:64251019-c72d-4759-a0f9-b195dae56dca
DTSTAMP:20260419T163015Z
CATEGORIES:Laboratori
CLASS:PUBLIC
DESCRIPTION;ALTREP="CID:<FFFF__=0ABBE548DFE235B58f9e8a93d@coffeebean.com>":
 Orario lezione: 09.30 - 11.30
DTSTART:20260417T160000Z
DTEND:20260417T160000Z
GEO:00;0
LOCATION:c/o scuola Dalla Chiesa\, V. Speranza 40\,  San Mauro
ORGANIZER:
SEQUENCE:1
SUMMARY:Informatica - posta elettronica (corso a numero chiuso ) c/o Scuola
  Dalla Chiesa v. Speranza 40
TRANSP:OPAQUE
URL:https://unitresanmauro.it/index.php/component/icagenda/74-informatica-p
 osta-elettronica/2026-04-17-16-00
END:VEVENT
END:VCALENDAR
