BEGIN:VCALENDAR
VERSION:2.0
PRODID:-//Unitre San Mauro//NONSGML kigkonsult.se iCalcreator 2.30.10//
CALSCALE:GREGORIAN
METHOD:PUBLISH
UID:1e633092-45b3-4b5f-a611-d1cf3fd55b9c
X-WR-CALNAME:iCagenda
X-WR-CALDESC:Event Management Extension for Joomla!
X-WR-RELCALID:3E26604A-50F4-4449-8B3E-E4F4932D05B5
X-WR-TIMEZONE:UTC
BEGIN:VTIMEZONE
TZID:UTC
END:VTIMEZONE
BEGIN:VEVENT
UID:efe2444e-9053-42a5-b655-4e47fabebdf5
DTSTAMP:20260421T160549Z
CATEGORIES:Laboratori
CLASS:PUBLIC
DESCRIPTION;ALTREP="CID:<FFFF__=0ABBE548DFE235B58f9e8a93d@coffeebean.com>":
 Orario lezione: 16.00 – 18.00\nMetodo che ti porterà ad imparare gli accor
 di necessari all'accompagnamento di qualsiasi canzone e leggere le melodie
  senza avere conoscenza di solfeggio o altro con il metodo Suzuki !\nIl co
 rso è dedicato a tutti gli appasionati di musica \, NESSUNO ESCLUSO!
DTSTART:20260420T093000Z
DTEND:20260420T093000Z
GEO:00;0
LOCATION:
ORGANIZER:
SEQUENCE:1
SUMMARY:Corso di chitarra avanzato
TRANSP:OPAQUE
URL:https://unitresanmauro.it/index.php/component/icagenda/88-corso-di-chit
 arra/2026-04-20-09-30
END:VEVENT
END:VCALENDAR
