BEGIN:VCALENDAR
VERSION:2.0
PRODID:-//Unitre San Mauro//NONSGML kigkonsult.se iCalcreator 2.30.10//
CALSCALE:GREGORIAN
METHOD:PUBLISH
UID:20d31277-2628-4457-9b1d-82f336ad7e1e
X-WR-CALNAME:iCagenda
X-WR-CALDESC:Event Management Extension for Joomla!
X-WR-RELCALID:3E26604A-50F4-4449-8B3E-E4F4932D05B5
X-WR-TIMEZONE:UTC
BEGIN:VTIMEZONE
TZID:UTC
END:VTIMEZONE
BEGIN:VEVENT
UID:007b8384-e3f2-4467-8ea0-7b57a93a9018
DTSTAMP:20260419T163014Z
CATEGORIES:Laboratori
CLASS:PUBLIC
DESCRIPTION;ALTREP="CID:<FFFF__=0ABBE548DFE235B58f9e8a93d@coffeebean.com>":
 Orario lezione: 16.00 – 18.00
DTSTART:20260417T160000Z
DTEND:20260417T160000Z
GEO:00;0
LOCATION:
ORGANIZER:
SEQUENCE:1
SUMMARY:Insieme... con il canto
TRANSP:OPAQUE
URL:https://unitresanmauro.it/index.php/component/icagenda/94-insieme-con-i
 l-canto/2026-04-17-16-00
END:VEVENT
END:VCALENDAR
